BEGIN:VCALENDAR
VERSION:2.0
PRODID:-//Teamup Solutions AG//Teamup Calendar//EN
CALSCALE:GREGORIAN
METHOD:PUBLISH
DESCRIPTION:Schulöffentlicher Terminkalender-6398477
X-WR-CALDESC:Schulöffentlicher Terminkalender-6398477
X-WR-CALNAME:Terminkalender des Rotteck-Gymnasiums | Schulöffentliche Term
 ine > Veranstaltungen
X-PUBLISHED-TTL:PT15M
SUMMARY:Terminkalender des Rotteck-Gymnasiums | Schulöffentliche Termine >
  Veranstaltungen
BEGIN:VTIMEZONE
TZID:Europe/Berlin
LAST-MODIFIED:20251211T094730Z
TZURL:https://www.tzurl.org/zoneinfo-outlook/Europe/Berlin
X-LIC-LOCATION:Europe/Berlin
BEGIN:DAYLIGHT
TZNAME:CEST
TZOFFSETFROM:+0100
TZOFFSETTO:+0200
DTSTART:19700329T020000
RRULE:FREQ=YEARLY;BYMONTH=3;BYDAY=-1SU
END:DAYLIGHT
BEGIN:STANDARD
TZNAME:CET
TZOFFSETFROM:+0200
TZOFFSETTO:+0100
DTSTART:19701025T030000
RRULE:FREQ=YEARLY;BYMONTH=10;BYDAY=-1SU
END:STANDARD
END:VTIMEZONE
BEGIN:VEVENT
UID:TU1740833822
DTSTAMP:20260328T074950Z
SUMMARY:Nachgefragt mit Igor Levit
CATEGORIES:Schulöffentliche Termine > Veranstaltungen
CLASS:PUBLIC
TRANSP:OPAQUE
SEQUENCE:0
DTSTART;TZID=Europe/Berlin:20250928T190000
DTEND;TZID=Europe/Berlin:20250928T210000
CREATED:20240909T134748Z
URL;VALUE=URI:https://teamup.com/ksxpexhgsexbwxyedb/events/1740833822
END:VEVENT
BEGIN:VEVENT
UID:TU1810219130
DTSTAMP:20260328T074950Z
SUMMARY:Nachgefragt mit Theresa Schopper
CATEGORIES:Schulöffentliche Termine > Veranstaltungen
CLASS:PUBLIC
TRANSP:OPAQUE
SEQUENCE:0
DTSTART;TZID=Europe/Berlin:20251204T190000
DTEND;TZID=Europe/Berlin:20251204T200000
CREATED:20250117T122039Z
LAST-MODIFIED:20250924T144535Z
URL;VALUE=URI:https://teamup.com/ksxpexhgsexbwxyedb/events/1810219130
END:VEVENT
BEGIN:VEVENT
UID:TU1847523500
DTSTAMP:20260328T074950Z
SUMMARY:Musik-AGs: Konzert
CATEGORIES:Schulöffentliche Termine > Veranstaltungen
CLASS:PUBLIC
TRANSP:OPAQUE
SEQUENCE:0
DTSTART;TZID=Europe/Berlin:20260325T190000
DTEND;TZID=Europe/Berlin:20260325T210000
CREATED:20250320T114530Z
URL;VALUE=URI:https://teamup.com/ksxpexhgsexbwxyedb/events/1847523500
END:VEVENT
BEGIN:VEVENT
UID:TU1847523687
DTSTAMP:20260328T074950Z
SUMMARY:Musik-AGs: Konzert
CATEGORIES:Schulöffentliche Termine > Veranstaltungen
CLASS:PUBLIC
TRANSP:OPAQUE
SEQUENCE:0
DTSTART;TZID=Europe/Berlin:20260326T190000
DTEND;TZID=Europe/Berlin:20260326T210000
CREATED:20250320T114605Z
LAST-MODIFIED:20250530T084800Z
URL;VALUE=URI:https://teamup.com/ksxpexhgsexbwxyedb/events/1847523687
END:VEVENT
BEGIN:VEVENT
UID:TU1886331424
DTSTAMP:20260328T074950Z
SUMMARY:Need a hero? Mittelstufentheater-AG: Premiere
LOCATION:FMS
CATEGORIES:Schulöffentliche Termine > Veranstaltungen
CLASS:PUBLIC
TRANSP:OPAQUE
SEQUENCE:0
DTSTART;TZID=Europe/Berlin:20260428T190000
DTEND;TZID=Europe/Berlin:20260428T210000
CREATED:20250525T100251Z
LAST-MODIFIED:20260326T104647Z
URL;VALUE=URI:https://teamup.com/ksxpexhgsexbwxyedb/events/1886331424
X-TEAMUP-WHERE:FMS
END:VEVENT
BEGIN:VEVENT
UID:TU1886331513
DTSTAMP:20260328T074950Z
SUMMARY:Need a hero? Mittelstufentheater-AG: 2. Aufführung für alle 7. Kl
 assen
CATEGORIES:Schulöffentliche Termine > Veranstaltungen
CLASS:PUBLIC
TRANSP:OPAQUE
SEQUENCE:0
DTSTART;TZID=Europe/Berlin:20260429T113000
DTEND;TZID=Europe/Berlin:20260429T130000
CREATED:20250525T100358Z
LAST-MODIFIED:20260326T104457Z
URL;VALUE=URI:https://teamup.com/ksxpexhgsexbwxyedb/events/1886331513
END:VEVENT
BEGIN:VEVENT
UID:TU1886331626
DTSTAMP:20260328T074950Z
SUMMARY:Need a hero? Mittelstufentheater-AG: 3. Aufführung
CATEGORIES:Schulöffentliche Termine > Veranstaltungen
CLASS:PUBLIC
TRANSP:OPAQUE
SEQUENCE:0
DTSTART;TZID=Europe/Berlin:20260430T190000
DTEND;TZID=Europe/Berlin:20260430T210000
CREATED:20250525T100518Z
LAST-MODIFIED:20260326T104618Z
URL;VALUE=URI:https://teamup.com/ksxpexhgsexbwxyedb/events/1886331626
END:VEVENT
BEGIN:VEVENT
UID:TU1889077823
DTSTAMP:20260328T074950Z
SUMMARY:0berstufentheater-AG: Premiere
CATEGORIES:Schulöffentliche Termine > Veranstaltungen
CLASS:PUBLIC
TRANSP:OPAQUE
SEQUENCE:0
DTSTART;TZID=Europe/Berlin:20260209T190000
DTEND;TZID=Europe/Berlin:20260209T210000
CREATED:20250529T201827Z
LAST-MODIFIED:20250529T202239Z
URL;VALUE=URI:https://teamup.com/ksxpexhgsexbwxyedb/events/1889077823
END:VEVENT
BEGIN:VEVENT
UID:TU1889078356
DTSTAMP:20260328T074950Z
SUMMARY:Oberstufentheater-AG: 2. Aufführung
CATEGORIES:Schulöffentliche Termine > Veranstaltungen
CLASS:PUBLIC
TRANSP:OPAQUE
SEQUENCE:0
DTSTART;TZID=Europe/Berlin:20260210T190000
DTEND;TZID=Europe/Berlin:20260210T210000
CREATED:20250529T201948Z
LAST-MODIFIED:20250529T202215Z
URL;VALUE=URI:https://teamup.com/ksxpexhgsexbwxyedb/events/1889078356
END:VEVENT
BEGIN:VEVENT
UID:TU1889081341
DTSTAMP:20260328T074950Z
SUMMARY:Oberstufentheater-AG: 3. Aufführung
CATEGORIES:Schulöffentliche Termine > Veranstaltungen
CLASS:PUBLIC
TRANSP:OPAQUE
SEQUENCE:0
DTSTART;TZID=Europe/Berlin:20260211T190000
DTEND;TZID=Europe/Berlin:20260211T210000
CREATED:20250529T202110Z
LAST-MODIFIED:20250529T202201Z
URL;VALUE=URI:https://teamup.com/ksxpexhgsexbwxyedb/events/1889081341
END:VEVENT
BEGIN:VEVENT
UID:TU1889082923
DTSTAMP:20260328T074950Z
SUMMARY:Unterstufentheater-AG: Premiere
CATEGORIES:Schulöffentliche Termine > Veranstaltungen
CLASS:PUBLIC
TRANSP:OPAQUE
SEQUENCE:0
DTSTART;TZID=Europe/Berlin:20260721T190000
DTEND;TZID=Europe/Berlin:20260721T210000
CREATED:20250529T202540Z
LAST-MODIFIED:20250529T202758Z
URL;VALUE=URI:https://teamup.com/ksxpexhgsexbwxyedb/events/1889082923
END:VEVENT
BEGIN:VEVENT
UID:TU1889083861
DTSTAMP:20260328T074950Z
SUMMARY:Unterstufentheater-AG: 2.Aufführung
CATEGORIES:Schulöffentliche Termine > Veranstaltungen
CLASS:PUBLIC
TRANSP:OPAQUE
SEQUENCE:0
DTSTART;TZID=Europe/Berlin:20260720T190000
DTEND;TZID=Europe/Berlin:20260720T210000
CREATED:20250529T202636Z
LAST-MODIFIED:20250529T202646Z
URL;VALUE=URI:https://teamup.com/ksxpexhgsexbwxyedb/events/1889083861
END:VEVENT
BEGIN:VEVENT
UID:TU1889085911
DTSTAMP:20260328T074950Z
SUMMARY:Unterstufentheater-AG: 3.Aufführung
CATEGORIES:Schulöffentliche Termine > Veranstaltungen
CLASS:PUBLIC
TRANSP:OPAQUE
SEQUENCE:0
DTSTART;TZID=Europe/Berlin:20260722T190000
DTEND;TZID=Europe/Berlin:20260722T210000
CREATED:20250529T202737Z
URL;VALUE=URI:https://teamup.com/ksxpexhgsexbwxyedb/events/1889085911
END:VEVENT
BEGIN:VEVENT
UID:TU1960741691
DTSTAMP:20260328T074950Z
SUMMARY:Medienelternabend (ab 19.30 Uhr)
CATEGORIES:Schulöffentliche Termine > Veranstaltungen
CLASS:PUBLIC
TRANSP:OPAQUE
SEQUENCE:0
DTSTART;TZID=Europe/Berlin:20251126T193000
DTEND;TZID=Europe/Berlin:20251126T210000
CREATED:20250929T104719Z
LAST-MODIFIED:20250930T051706Z
URL;VALUE=URI:https://teamup.com/ksxpexhgsexbwxyedb/events/1960741691
END:VEVENT
BEGIN:VEVENT
UID:TU1989043202
DTSTAMP:20260328T074950Z
SUMMARY:Musicalkids „Passwort Zeitmaschine“ für Eltern\, Familien\, Fa
 ns und Freunde
LOCATION:FMS
CATEGORIES:Schulöffentliche Termine > Veranstaltungen
CLASS:PUBLIC
TRANSP:OPAQUE
SEQUENCE:0
DTSTART;TZID=Europe/Berlin:20260624T190000
DTEND;TZID=Europe/Berlin:20260624T200000
CREATED:20251113T152811Z
URL;VALUE=URI:https://teamup.com/ksxpexhgsexbwxyedb/events/1989043202
X-TEAMUP-WHERE:FMS
END:VEVENT
BEGIN:VEVENT
UID:TU2000875426
DTSTAMP:20260328T074950Z
SUMMARY:Weihnachtsmärchen   - Theateraufführung für alle 5. Klassen
DESCRIPTION:Ein Theaterprojekt der Klasse 8c.\n\n
LOCATION:FMS
CATEGORIES:Schulöffentliche Termine > Veranstaltungen
CLASS:PUBLIC
TRANSP:OPAQUE
SEQUENCE:0
DTSTART;TZID=Europe/Berlin:20251216T094000
DTEND;TZID=Europe/Berlin:20251216T111000
CREATED:20251203T163944Z
LAST-MODIFIED:20251203T164312Z
URL;VALUE=URI:https://teamup.com/ksxpexhgsexbwxyedb/events/2000875426
X-TEAMUP-WHERE:FMS
END:VEVENT
BEGIN:VEVENT
UID:TU2000877260
DTSTAMP:20260328T074950Z
SUMMARY:Weihnachtsmärchen - Theateraufführung für alle 6. Klassen
DESCRIPTION:Ein Theaterprojekt der Klasse 8c.\n\n
LOCATION:FMS
CATEGORIES:Schulöffentliche Termine > Veranstaltungen
CLASS:PUBLIC
TRANSP:OPAQUE
SEQUENCE:0
DTSTART;TZID=Europe/Berlin:20251217T094000
DTEND;TZID=Europe/Berlin:20251217T111000
CREATED:20251203T164227Z
LAST-MODIFIED:20251203T164239Z
URL;VALUE=URI:https://teamup.com/ksxpexhgsexbwxyedb/events/2000877260
X-TEAMUP-WHERE:FMS
END:VEVENT
BEGIN:VEVENT
UID:TU2000880441
DTSTAMP:20260328T074950Z
SUMMARY:Theaterprojekt der 8c: Ein Weihnachtsmärchen
LOCATION:FMS
CATEGORIES:Schulöffentliche Termine > Veranstaltungen
CLASS:PUBLIC
TRANSP:OPAQUE
SEQUENCE:0
DTSTART;TZID=Europe/Berlin:20251217T190000
DTEND;TZID=Europe/Berlin:20251217T203000
CREATED:20251203T164615Z
URL;VALUE=URI:https://teamup.com/ksxpexhgsexbwxyedb/events/2000880441
X-TEAMUP-WHERE:FMS
END:VEVENT
BEGIN:VEVENT
UID:TU2027108400
DTSTAMP:20260328T074950Z
SUMMARY:2. Schulkonferenz
CATEGORIES:Schulöffentliche Termine > Veranstaltungen
CLASS:PUBLIC
TRANSP:OPAQUE
SEQUENCE:0
DTSTART;TZID=Europe/Berlin:20260413T193000
DTEND;TZID=Europe/Berlin:20260413T203000
CREATED:20260119T145203Z
LAST-MODIFIED:20260327T120216Z
URL;VALUE=URI:https://teamup.com/ksxpexhgsexbwxyedb/events/2027108400
END:VEVENT
BEGIN:VEVENT
UID:TU2047221938
DTSTAMP:20260328T074950Z
SUMMARY:Nachgefragt mit Max Giermann
CATEGORIES:Schulöffentliche Termine > Veranstaltungen
CLASS:PUBLIC
TRANSP:OPAQUE
SEQUENCE:0
DTSTART;TZID=Europe/Berlin:20260424T200000
DTEND;TZID=Europe/Berlin:20260424T210000
CREATED:20260221T111356Z
URL;VALUE=URI:https://teamup.com/ksxpexhgsexbwxyedb/events/2047221938
END:VEVENT
END:VCALENDAR
