BEGIN:VCALENDAR
VERSION:2.0
PRODID:-//Teamup Solutions AG//Teamup Calendar//EN
CALSCALE:GREGORIAN
METHOD:PUBLISH
DESCRIPTION:Schulöffentlicher Terminkalender-6398249
X-WR-CALDESC:Schulöffentlicher Terminkalender-6398249
X-WR-CALNAME:Terminkalender des Rotteck-Gymnasiums | Schulöffentliche Term
 ine > Klasse 5-10
X-PUBLISHED-TTL:PT15M
SUMMARY:Terminkalender des Rotteck-Gymnasiums | Schulöffentliche Termine >
  Klasse 5-10
BEGIN:VTIMEZONE
TZID:Europe/Berlin
LAST-MODIFIED:20251211T094730Z
TZURL:https://www.tzurl.org/zoneinfo-outlook/Europe/Berlin
X-LIC-LOCATION:Europe/Berlin
BEGIN:DAYLIGHT
TZNAME:CEST
TZOFFSETFROM:+0100
TZOFFSETTO:+0200
DTSTART:19700329T020000
RRULE:FREQ=YEARLY;BYMONTH=3;BYDAY=-1SU
END:DAYLIGHT
BEGIN:STANDARD
TZNAME:CET
TZOFFSETFROM:+0200
TZOFFSETTO:+0100
DTSTART:19701025T030000
RRULE:FREQ=YEARLY;BYMONTH=10;BYDAY=-1SU
END:STANDARD
END:VTIMEZONE
BEGIN:VEVENT
UID:TU1860919934
DTSTAMP:20260421T092749Z
SUMMARY:Kurswahl Klasse 10 - Fachspezifische Information
CATEGORIES:Schulöffentliche Termine > Klasse 5-10
CLASS:PUBLIC
TRANSP:OPAQUE
SEQUENCE:0
DTSTART;TZID=Europe/Berlin:20260224T094000
DTEND;TZID=Europe/Berlin:20260224T111000
CREATED:20250411T100422Z
LAST-MODIFIED:20250702T153006Z
URL;VALUE=URI:https://teamup.com/ksxpexhgsexbwxyedb/events/1860919934
END:VEVENT
BEGIN:VEVENT
UID:TU1860920007
DTSTAMP:20260421T092749Z
SUMMARY:Kurswahl Klasse 10 - Fachspezifische Information
CATEGORIES:Schulöffentliche Termine > Klasse 5-10
CLASS:PUBLIC
TRANSP:OPAQUE
SEQUENCE:0
DTSTART;TZID=Europe/Berlin:20260225T094000
DTEND;TZID=Europe/Berlin:20260225T111000
CREATED:20250411T100442Z
LAST-MODIFIED:20250702T153000Z
URL;VALUE=URI:https://teamup.com/ksxpexhgsexbwxyedb/events/1860920007
END:VEVENT
BEGIN:VEVENT
UID:TU1860920172
DTSTAMP:20260421T092749Z
SUMMARY:Kurswahl Klasse 10 - Fachspezifische Information
CATEGORIES:Schulöffentliche Termine > Klasse 5-10
CLASS:PUBLIC
TRANSP:OPAQUE
SEQUENCE:0
DTSTART;TZID=Europe/Berlin:20260226T094000
DTEND;TZID=Europe/Berlin:20260226T111000
CREATED:20250411T100459Z
LAST-MODIFIED:20250702T153029Z
URL;VALUE=URI:https://teamup.com/ksxpexhgsexbwxyedb/events/1860920172
END:VEVENT
BEGIN:VEVENT
UID:TU1860921107
DTSTAMP:20260421T092749Z
SUMMARY:Klasse 10: Abgabe der Kurswahlbögen
X-MICROSOFT-CDO-ALLDAYEVENT:TRUE
CATEGORIES:Schulöffentliche Termine > Klasse 5-10
CLASS:PUBLIC
TRANSP:OPAQUE
SEQUENCE:0
DTSTART;VALUE=DATE:20260309
DTEND;VALUE=DATE:20260310
CREATED:20250411T100638Z
LAST-MODIFIED:20250702T153644Z
URL;VALUE=URI:https://teamup.com/ksxpexhgsexbwxyedb/events/1860921107
END:VEVENT
BEGIN:VEVENT
UID:TU1884317463
DTSTAMP:20260421T092749Z
SUMMARY:Klasse 8: Science Days
X-MICROSOFT-CDO-ALLDAYEVENT:TRUE
CATEGORIES:Schulöffentliche Termine > Klasse 5-10
CLASS:PUBLIC
TRANSP:OPAQUE
SEQUENCE:0
DTSTART;VALUE=DATE:20251024
DTEND;VALUE=DATE:20251025
CREATED:20250521T162037Z
LAST-MODIFIED:20250702T152405Z
URL;VALUE=URI:https://teamup.com/ksxpexhgsexbwxyedb/events/1884317463
END:VEVENT
BEGIN:VEVENT
UID:TU1884317626
DTSTAMP:20260421T092749Z
SUMMARY:Anmeldeschluss GFS für die Klassen 7-10
X-MICROSOFT-CDO-ALLDAYEVENT:TRUE
CATEGORIES:Schulöffentliche Termine > Klasse 5-10
CLASS:PUBLIC
TRANSP:OPAQUE
SEQUENCE:0
DTSTART;VALUE=DATE:20251024
DTEND;VALUE=DATE:20251025
CREATED:20250521T162057Z
LAST-MODIFIED:20250930T072451Z
URL;VALUE=URI:https://teamup.com/ksxpexhgsexbwxyedb/events/1884317626
END:VEVENT
BEGIN:VEVENT
UID:TU1884317826
DTSTAMP:20260421T092749Z
SUMMARY:Anmeldeschluss GFS für die K1
X-MICROSOFT-CDO-ALLDAYEVENT:TRUE
CATEGORIES:Schulöffentliche Termine > Klasse 5-10
CLASS:PUBLIC
TRANSP:OPAQUE
SEQUENCE:0
DTSTART;VALUE=DATE:20251024
DTEND;VALUE=DATE:20251025
CREATED:20250521T162121Z
LAST-MODIFIED:20250702T152421Z
URL;VALUE=URI:https://teamup.com/ksxpexhgsexbwxyedb/events/1884317826
END:VEVENT
BEGIN:VEVENT
UID:TU1885430195
DTSTAMP:20260421T092749Z
SUMMARY:Klasse 7: Info Profilwahl
CATEGORIES:Schulöffentliche Termine > Klasse 5-10
CLASS:PUBLIC
TRANSP:OPAQUE
SEQUENCE:0
DTSTART;TZID=Europe/Berlin:20260223T113000
DTEND;TZID=Europe/Berlin:20260223T130000
CREATED:20250523T095821Z
LAST-MODIFIED:20260129T113039Z
URL;VALUE=URI:https://teamup.com/ksxpexhgsexbwxyedb/events/1885430195
END:VEVENT
BEGIN:VEVENT
UID:TU1885430761
DTSTAMP:20260421T092749Z
SUMMARY:Klasse 7: Abgabe Profilwahlbögen
X-MICROSOFT-CDO-ALLDAYEVENT:TRUE
CATEGORIES:Schulöffentliche Termine > Klasse 5-10
CLASS:PUBLIC
TRANSP:OPAQUE
SEQUENCE:0
DTSTART;VALUE=DATE:20260309
DTEND;VALUE=DATE:20260310
CREATED:20250523T095949Z
LAST-MODIFIED:20250702T153650Z
URL;VALUE=URI:https://teamup.com/ksxpexhgsexbwxyedb/events/1885430761
END:VEVENT
BEGIN:VEVENT
UID:TU1886847998
DTSTAMP:20260421T092749Z
SUMMARY:Waldwoche Burg Hornberg 7a/b
X-MICROSOFT-CDO-ALLDAYEVENT:TRUE
CATEGORIES:Schulöffentliche Termine > Klasse 5-10
CLASS:PUBLIC
TRANSP:OPAQUE
SEQUENCE:0
DTSTART;VALUE=DATE:20260518
DTEND;VALUE=DATE:20260523
CREATED:20250526T130256Z
URL;VALUE=URI:https://teamup.com/ksxpexhgsexbwxyedb/events/1886847998
END:VEVENT
BEGIN:VEVENT
UID:TU1886848640
DTSTAMP:20260421T092749Z
SUMMARY:Waldwoche Burg Hornberg 7c
X-MICROSOFT-CDO-ALLDAYEVENT:TRUE
CATEGORIES:Schulöffentliche Termine > Klasse 5-10
CLASS:PUBLIC
TRANSP:OPAQUE
SEQUENCE:0
DTSTART;VALUE=DATE:20260608
DTEND;VALUE=DATE:20260613
CREATED:20250526T130454Z
URL;VALUE=URI:https://teamup.com/ksxpexhgsexbwxyedb/events/1886848640
END:VEVENT
BEGIN:VEVENT
UID:TU1889274351
DTSTAMP:20260421T092749Z
SUMMARY:Notenende Klassen 5 bis 10 (13.00 Uhr)
CATEGORIES:Schulöffentliche Termine > Klasse 5-10
CLASS:PUBLIC
TRANSP:OPAQUE
SEQUENCE:0
DTSTART;TZID=Europe/Berlin:20260123T120000
DTEND;TZID=Europe/Berlin:20260123T130000
CREATED:20250530T053257Z
LAST-MODIFIED:20250912T092025Z
URL;VALUE=URI:https://teamup.com/ksxpexhgsexbwxyedb/events/1889274351
END:VEVENT
BEGIN:VEVENT
UID:TU1889338578
DTSTAMP:20260421T092749Z
SUMMARY:Klasse 10: Sozialpraktikum
X-MICROSOFT-CDO-ALLDAYEVENT:TRUE
CATEGORIES:Schulöffentliche Termine > Klasse 5-10
CLASS:PUBLIC
TRANSP:OPAQUE
SEQUENCE:0
DTSTART;VALUE=DATE:20260713
DTEND;VALUE=DATE:20260718
CREATED:20250530T083951Z
LAST-MODIFIED:20250702T154241Z
URL;VALUE=URI:https://teamup.com/ksxpexhgsexbwxyedb/events/1889338578
END:VEVENT
BEGIN:VEVENT
UID:TU1889338910
DTSTAMP:20260421T092749Z
SUMMARY:Sozialpraktikum
X-MICROSOFT-CDO-ALLDAYEVENT:TRUE
CATEGORIES:Schulöffentliche Termine > Klasse 5-10
CLASS:PUBLIC
TRANSP:OPAQUE
SEQUENCE:0
DTSTART;VALUE=DATE:20260720
DTEND;VALUE=DATE:20260725
CREATED:20250530T084049Z
LAST-MODIFIED:20250702T154246Z
URL;VALUE=URI:https://teamup.com/ksxpexhgsexbwxyedb/events/1889338910
END:VEVENT
BEGIN:VEVENT
UID:TU1890854748
DTSTAMP:20260421T092749Z
SUMMARY:Hasliberg (I): 6b und 6e
X-MICROSOFT-CDO-ALLDAYEVENT:TRUE
CATEGORIES:Schulöffentliche Termine > Klasse 5-10
CLASS:PUBLIC
TRANSP:OPAQUE
SEQUENCE:0
DTSTART;VALUE=DATE:20260223
DTEND;VALUE=DATE:20260228
CREATED:20250602T123535Z
LAST-MODIFIED:20250602T123634Z
URL;VALUE=URI:https://teamup.com/ksxpexhgsexbwxyedb/events/1890854748
END:VEVENT
BEGIN:VEVENT
UID:TU1890856987
DTSTAMP:20260421T092749Z
SUMMARY:Hasliberg (II): 6a\, 6c und 6d
X-MICROSOFT-CDO-ALLDAYEVENT:TRUE
CATEGORIES:Schulöffentliche Termine > Klasse 5-10
CLASS:PUBLIC
TRANSP:OPAQUE
SEQUENCE:0
DTSTART;VALUE=DATE:20260309
DTEND;VALUE=DATE:20260314
CREATED:20250602T123626Z
URL;VALUE=URI:https://teamup.com/ksxpexhgsexbwxyedb/events/1890856987
END:VEVENT
BEGIN:VEVENT
UID:TU1891658566
DTSTAMP:20260421T092749Z
SUMMARY:Klasse 10: Studien-und Berufsorientierung\, Job-Start-Börse (3.-6.
  Stunde)
DESCRIPTION:Die Klassen 10 besuchen die Job-Start-Börse (Messe Freiburg)\,
  3.-6. Stunde\n\n
X-MICROSOFT-CDO-ALLDAYEVENT:TRUE
CATEGORIES:Schulöffentliche Termine > Klasse 5-10
CLASS:PUBLIC
TRANSP:OPAQUE
SEQUENCE:0
DTSTART;VALUE=DATE:20260205
DTEND;VALUE=DATE:20260206
CREATED:20250603T144653Z
LAST-MODIFIED:20250603T144724Z
URL;VALUE=URI:https://teamup.com/ksxpexhgsexbwxyedb/events/1891658566
END:VEVENT
BEGIN:VEVENT
UID:TU1891661683
DTSTAMP:20260421T092749Z
SUMMARY:Klasse 9: Berufs- und Studienorientierung\, Berufsschnuppertag (gan
 ztägig)
DESCRIPTION:Berufsschnuppertag oder Teilnahme an Boys/Girls Day (ganztägig
 )\n\n
X-MICROSOFT-CDO-ALLDAYEVENT:TRUE
CATEGORIES:Schulöffentliche Termine > Klasse 5-10
CLASS:PUBLIC
TRANSP:OPAQUE
SEQUENCE:0
DTSTART;VALUE=DATE:20260423
DTEND;VALUE=DATE:20260424
CREATED:20250603T145032Z
URL;VALUE=URI:https://teamup.com/ksxpexhgsexbwxyedb/events/1891661683
END:VEVENT
BEGIN:VEVENT
UID:TU1893429455
DTSTAMP:20260421T092749Z
SUMMARY:Bücherabgabe Klasse 10
X-MICROSOFT-CDO-ALLDAYEVENT:TRUE
CATEGORIES:Schulöffentliche Termine > Klasse 5-10
CLASS:PUBLIC
TRANSP:OPAQUE
SEQUENCE:0
DTSTART;VALUE=DATE:20260710
DTEND;VALUE=DATE:20260711
CREATED:20250606T063105Z
LAST-MODIFIED:20250702T154202Z
URL;VALUE=URI:https://teamup.com/ksxpexhgsexbwxyedb/events/1893429455
END:VEVENT
BEGIN:VEVENT
UID:TU1893429628
DTSTAMP:20260421T092749Z
SUMMARY:Büchertausch Klasse 9
X-MICROSOFT-CDO-ALLDAYEVENT:TRUE
CATEGORIES:Schulöffentliche Termine > Klasse 5-10
CLASS:PUBLIC
TRANSP:OPAQUE
SEQUENCE:0
DTSTART;VALUE=DATE:20260717
DTEND;VALUE=DATE:20260718
CREATED:20250606T063137Z
LAST-MODIFIED:20250704T054118Z
URL;VALUE=URI:https://teamup.com/ksxpexhgsexbwxyedb/events/1893429628
END:VEVENT
BEGIN:VEVENT
UID:TU1893429672
DTSTAMP:20260421T092749Z
SUMMARY:Büchertausch Klasse 8
X-MICROSOFT-CDO-ALLDAYEVENT:TRUE
CATEGORIES:Schulöffentliche Termine > Klasse 5-10
CLASS:PUBLIC
TRANSP:OPAQUE
SEQUENCE:0
DTSTART;VALUE=DATE:20260720
DTEND;VALUE=DATE:20260721
CREATED:20250606T063154Z
LAST-MODIFIED:20250704T053706Z
URL;VALUE=URI:https://teamup.com/ksxpexhgsexbwxyedb/events/1893429672
END:VEVENT
BEGIN:VEVENT
UID:TU1893429715
DTSTAMP:20260421T092749Z
SUMMARY:Büchertausch Klasse 7
X-MICROSOFT-CDO-ALLDAYEVENT:TRUE
CATEGORIES:Schulöffentliche Termine > Klasse 5-10
CLASS:PUBLIC
TRANSP:OPAQUE
SEQUENCE:0
DTSTART;VALUE=DATE:20260721
DTEND;VALUE=DATE:20260722
CREATED:20250606T063208Z
LAST-MODIFIED:20250704T054144Z
URL;VALUE=URI:https://teamup.com/ksxpexhgsexbwxyedb/events/1893429715
END:VEVENT
BEGIN:VEVENT
UID:TU1893429764
DTSTAMP:20260421T092749Z
SUMMARY:Büchertausch Klasse 6
X-MICROSOFT-CDO-ALLDAYEVENT:TRUE
CATEGORIES:Schulöffentliche Termine > Klasse 5-10
CLASS:PUBLIC
TRANSP:OPAQUE
SEQUENCE:0
DTSTART;VALUE=DATE:20260722
DTEND;VALUE=DATE:20260723
CREATED:20250606T063229Z
LAST-MODIFIED:20250704T054358Z
URL;VALUE=URI:https://teamup.com/ksxpexhgsexbwxyedb/events/1893429764
END:VEVENT
BEGIN:VEVENT
UID:TU1893429815
DTSTAMP:20260421T092749Z
SUMMARY:Büchertausch Klasse 5
X-MICROSOFT-CDO-ALLDAYEVENT:TRUE
CATEGORIES:Schulöffentliche Termine > Klasse 5-10
CLASS:PUBLIC
TRANSP:OPAQUE
SEQUENCE:0
DTSTART;VALUE=DATE:20260723
DTEND;VALUE=DATE:20260724
CREATED:20250606T063247Z
LAST-MODIFIED:20250704T054410Z
URL;VALUE=URI:https://teamup.com/ksxpexhgsexbwxyedb/events/1893429815
END:VEVENT
BEGIN:VEVENT
UID:TU1905740157
DTSTAMP:20260421T092749Z
SUMMARY:Potentialtest Haupttermin
X-MICROSOFT-CDO-ALLDAYEVENT:TRUE
CATEGORIES:Schulöffentliche Termine > Klasse 5-10
CLASS:PUBLIC
TRANSP:OPAQUE
SEQUENCE:0
DTSTART;VALUE=DATE:20270223
DTEND;VALUE=DATE:20270224
CREATED:20250627T063455Z
LAST-MODIFIED:20250627T064248Z
URL;VALUE=URI:https://teamup.com/ksxpexhgsexbwxyedb/events/1905740157
END:VEVENT
BEGIN:VEVENT
UID:TU1905743817
DTSTAMP:20260421T092749Z
SUMMARY:Potentialtest Nachtermin
DESCRIPTION:Am Potentialtest Nachtermin dürfen Kinder teilnehmen\, die am 
 Dienstag\,23.02. zum Hauptermin des Potentialtests angemeldet waren jedoch
  nicht teilnehmen konnten. \n\n
X-MICROSOFT-CDO-ALLDAYEVENT:TRUE
CATEGORIES:Schulöffentliche Termine > Klasse 5-10
CLASS:PUBLIC
TRANSP:OPAQUE
SEQUENCE:0
DTSTART;VALUE=DATE:20270302
DTEND;VALUE=DATE:20270303
CREATED:20250627T064134Z
LAST-MODIFIED:20250627T064417Z
URL;VALUE=URI:https://teamup.com/ksxpexhgsexbwxyedb/events/1905743817
END:VEVENT
BEGIN:VEVENT
UID:TU1909787340
DTSTAMP:20260421T092749Z
SUMMARY:Büchertausch Aufbau (13.00 Uhr)
X-MICROSOFT-CDO-ALLDAYEVENT:TRUE
CATEGORIES:Schulöffentliche Termine > Klasse 5-10
CLASS:PUBLIC
TRANSP:OPAQUE
SEQUENCE:0
DTSTART;VALUE=DATE:20260716
DTEND;VALUE=DATE:20260717
CREATED:20250704T054329Z
URL;VALUE=URI:https://teamup.com/ksxpexhgsexbwxyedb/events/1909787340
END:VEVENT
BEGIN:VEVENT
UID:TU1909997935
DTSTAMP:20260421T092749Z
SUMMARY:EP 8a Oberried
X-MICROSOFT-CDO-ALLDAYEVENT:TRUE
CATEGORIES:Schulöffentliche Termine > Klasse 5-10
CLASS:PUBLIC
TRANSP:OPAQUE
SEQUENCE:0
DTSTART;VALUE=DATE:20260708
DTEND;VALUE=DATE:20260711
CREATED:20250704T133825Z
URL;VALUE=URI:https://teamup.com/ksxpexhgsexbwxyedb/events/1909997935
END:VEVENT
BEGIN:VEVENT
UID:TU1909997982
DTSTAMP:20260421T092749Z
SUMMARY:EP 8b Oberried
X-MICROSOFT-CDO-ALLDAYEVENT:TRUE
CATEGORIES:Schulöffentliche Termine > Klasse 5-10
CLASS:PUBLIC
TRANSP:OPAQUE
SEQUENCE:0
DTSTART;VALUE=DATE:20260713
DTEND;VALUE=DATE:20260716
CREATED:20250704T133840Z
URL;VALUE=URI:https://teamup.com/ksxpexhgsexbwxyedb/events/1909997982
END:VEVENT
BEGIN:VEVENT
UID:TU1909998037
DTSTAMP:20260421T092749Z
SUMMARY:EP 8c Oberried
X-MICROSOFT-CDO-ALLDAYEVENT:TRUE
CATEGORIES:Schulöffentliche Termine > Klasse 5-10
CLASS:PUBLIC
TRANSP:OPAQUE
SEQUENCE:0
DTSTART;VALUE=DATE:20260715
DTEND;VALUE=DATE:20260718
CREATED:20250704T133855Z
URL;VALUE=URI:https://teamup.com/ksxpexhgsexbwxyedb/events/1909998037
END:VEVENT
BEGIN:VEVENT
UID:TU1909998109
DTSTAMP:20260421T092749Z
SUMMARY:EP 8d Oberried
X-MICROSOFT-CDO-ALLDAYEVENT:TRUE
CATEGORIES:Schulöffentliche Termine > Klasse 5-10
CLASS:PUBLIC
TRANSP:OPAQUE
SEQUENCE:0
DTSTART;VALUE=DATE:20260720
DTEND;VALUE=DATE:20260723
CREATED:20250704T133912Z
URL;VALUE=URI:https://teamup.com/ksxpexhgsexbwxyedb/events/1909998109
END:VEVENT
BEGIN:VEVENT
UID:TU1909998167
DTSTAMP:20260421T092749Z
SUMMARY:EP 8e Oberried
X-MICROSOFT-CDO-ALLDAYEVENT:TRUE
CATEGORIES:Schulöffentliche Termine > Klasse 5-10
CLASS:PUBLIC
TRANSP:OPAQUE
SEQUENCE:0
DTSTART;VALUE=DATE:20260722
DTEND;VALUE=DATE:20260725
CREATED:20250704T133926Z
URL;VALUE=URI:https://teamup.com/ksxpexhgsexbwxyedb/events/1909998167
END:VEVENT
BEGIN:VEVENT
UID:TU1911880550
DTSTAMP:20260421T092749Z
SUMMARY:EP 2.Welle 8b
X-MICROSOFT-CDO-ALLDAYEVENT:TRUE
CATEGORIES:Schulöffentliche Termine > Klasse 5-10
CLASS:PUBLIC
TRANSP:OPAQUE
SEQUENCE:0
DTSTART;VALUE=DATE:20260323
DTEND;VALUE=DATE:20260324
CREATED:20250708T110734Z
URL;VALUE=URI:https://teamup.com/ksxpexhgsexbwxyedb/events/1911880550
END:VEVENT
BEGIN:VEVENT
UID:TU1911881806
DTSTAMP:20260421T092749Z
SUMMARY:EP 2.Welle 8c
X-MICROSOFT-CDO-ALLDAYEVENT:TRUE
CATEGORIES:Schulöffentliche Termine > Klasse 5-10
CLASS:PUBLIC
TRANSP:OPAQUE
SEQUENCE:0
DTSTART;VALUE=DATE:20260324
DTEND;VALUE=DATE:20260325
CREATED:20250708T110804Z
URL;VALUE=URI:https://teamup.com/ksxpexhgsexbwxyedb/events/1911881806
END:VEVENT
BEGIN:VEVENT
UID:TU1911882510
DTSTAMP:20260421T092749Z
SUMMARY:EP 2.Welle 8d
X-MICROSOFT-CDO-ALLDAYEVENT:TRUE
CATEGORIES:Schulöffentliche Termine > Klasse 5-10
CLASS:PUBLIC
TRANSP:OPAQUE
SEQUENCE:0
DTSTART;VALUE=DATE:20260325
DTEND;VALUE=DATE:20260326
CREATED:20250708T110816Z
URL;VALUE=URI:https://teamup.com/ksxpexhgsexbwxyedb/events/1911882510
END:VEVENT
BEGIN:VEVENT
UID:TU1911882965
DTSTAMP:20260421T092749Z
SUMMARY:EP 2.Welle 8e
X-MICROSOFT-CDO-ALLDAYEVENT:TRUE
CATEGORIES:Schulöffentliche Termine > Klasse 5-10
CLASS:PUBLIC
TRANSP:OPAQUE
SEQUENCE:0
DTSTART;VALUE=DATE:20260326
DTEND;VALUE=DATE:20260327
CREATED:20250708T110824Z
URL;VALUE=URI:https://teamup.com/ksxpexhgsexbwxyedb/events/1911882965
END:VEVENT
BEGIN:VEVENT
UID:TU1911883146
DTSTAMP:20260421T092749Z
SUMMARY:EP 2.Welle 8a
X-MICROSOFT-CDO-ALLDAYEVENT:TRUE
CATEGORIES:Schulöffentliche Termine > Klasse 5-10
CLASS:PUBLIC
TRANSP:OPAQUE
SEQUENCE:0
DTSTART;VALUE=DATE:20260327
DTEND;VALUE=DATE:20260328
CREATED:20250708T110831Z
URL;VALUE=URI:https://teamup.com/ksxpexhgsexbwxyedb/events/1911883146
END:VEVENT
BEGIN:VEVENT
UID:TU1911885049
DTSTAMP:20260421T092749Z
SUMMARY:EP 1.Welle 8b
X-MICROSOFT-CDO-ALLDAYEVENT:TRUE
CATEGORIES:Schulöffentliche Termine > Klasse 5-10
CLASS:PUBLIC
TRANSP:OPAQUE
SEQUENCE:0
DTSTART;VALUE=DATE:20251022
DTEND;VALUE=DATE:20251023
CREATED:20250708T111215Z
LAST-MODIFIED:20250915T121735Z
URL;VALUE=URI:https://teamup.com/ksxpexhgsexbwxyedb/events/1911885049
END:VEVENT
BEGIN:VEVENT
UID:TU1912400459
DTSTAMP:20260421T092749Z
SUMMARY:5c Kennenlernhütte
X-MICROSOFT-CDO-ALLDAYEVENT:TRUE
CATEGORIES:Schulöffentliche Termine > Klasse 5-10
CLASS:PUBLIC
TRANSP:OPAQUE
SEQUENCE:0
DTSTART;VALUE=DATE:20251020
DTEND;VALUE=DATE:20251023
CREATED:20250709T051324Z
LAST-MODIFIED:20250731T100216Z
URL;VALUE=URI:https://teamup.com/ksxpexhgsexbwxyedb/events/1912400459
END:VEVENT
BEGIN:VEVENT
UID:TU1912400466
DTSTAMP:20260421T092749Z
SUMMARY:Kennenlernhütte Klasse 5d
LOCATION:JH Menzenschwand
X-MICROSOFT-CDO-ALLDAYEVENT:TRUE
CATEGORIES:Schulöffentliche Termine > Klasse 5-10
CLASS:PUBLIC
TRANSP:OPAQUE
SEQUENCE:0
DTSTART;VALUE=DATE:20251105
DTEND;VALUE=DATE:20251108
CREATED:20250709T051326Z
LAST-MODIFIED:20250930T081239Z
URL;VALUE=URI:https://teamup.com/ksxpexhgsexbwxyedb/events/1912400466
X-TEAMUP-WHERE:JH Menzenschwand
END:VEVENT
BEGIN:VEVENT
UID:TU1912513444
DTSTAMP:20260421T092749Z
SUMMARY:5b Kennenlernhütte
X-MICROSOFT-CDO-ALLDAYEVENT:TRUE
CATEGORIES:Schulöffentliche Termine > Klasse 5-10
CLASS:PUBLIC
TRANSP:OPAQUE
SEQUENCE:0
DTSTART;VALUE=DATE:20251020
DTEND;VALUE=DATE:20251023
CREATED:20250709T095522Z
URL;VALUE=URI:https://teamup.com/ksxpexhgsexbwxyedb/events/1912513444
END:VEVENT
BEGIN:VEVENT
UID:TU1920985705
DTSTAMP:20260421T092749Z
SUMMARY:Englandfahrt Klasse 9a
X-MICROSOFT-CDO-ALLDAYEVENT:TRUE
CATEGORIES:Schulöffentliche Termine > Klasse 5-10
CLASS:PUBLIC
TRANSP:OPAQUE
SEQUENCE:0
DTSTART;VALUE=DATE:20260705
DTEND;VALUE=DATE:20260711
CREATED:20250724T094447Z
URL;VALUE=URI:https://teamup.com/ksxpexhgsexbwxyedb/events/1920985705
END:VEVENT
BEGIN:VEVENT
UID:TU1947201787
DTSTAMP:20260421T092749Z
SUMMARY:DELF - Prüfung Klasse 10
X-MICROSOFT-CDO-ALLDAYEVENT:TRUE
CATEGORIES:Schulöffentliche Termine > Klasse 5-10
CLASS:PUBLIC
TRANSP:OPAQUE
SEQUENCE:0
DTSTART;VALUE=DATE:20260319
DTEND;VALUE=DATE:20260320
CREATED:20250907T082638Z
URL;VALUE=URI:https://teamup.com/ksxpexhgsexbwxyedb/events/1947201787
END:VEVENT
BEGIN:VEVENT
UID:TU1951599155
DTSTAMP:20260421T092749Z
SUMMARY:Kennenlernhütte 5a
X-MICROSOFT-CDO-ALLDAYEVENT:TRUE
CATEGORIES:Schulöffentliche Termine > Klasse 5-10
CLASS:PUBLIC
TRANSP:OPAQUE
SEQUENCE:0
DTSTART;VALUE=DATE:20251103
DTEND;VALUE=DATE:20251106
CREATED:20250914T111504Z
LAST-MODIFIED:20250914T111524Z
URL;VALUE=URI:https://teamup.com/ksxpexhgsexbwxyedb/events/1951599155
END:VEVENT
BEGIN:VEVENT
UID:TU1957964538
DTSTAMP:20260421T092749Z
SUMMARY:Latein-Klasse 9: Trier-Fahrt
X-MICROSOFT-CDO-ALLDAYEVENT:TRUE
CATEGORIES:Schulöffentliche Termine > Klasse 5-10
CLASS:PUBLIC
TRANSP:OPAQUE
SEQUENCE:0
DTSTART;VALUE=DATE:20260223
DTEND;VALUE=DATE:20260226
CREATED:20250924T133828Z
LAST-MODIFIED:20250929T070944Z
URL;VALUE=URI:https://teamup.com/ksxpexhgsexbwxyedb/events/1957964538
END:VEVENT
BEGIN:VEVENT
UID:TU1960626830
DTSTAMP:20260421T092749Z
SUMMARY:Hochseilgarten Mkid Kl. 6 (Gruppe 1)
X-MICROSOFT-CDO-ALLDAYEVENT:TRUE
CATEGORIES:Schulöffentliche Termine > Klasse 5-10
CLASS:PUBLIC
TRANSP:OPAQUE
SEQUENCE:0
DTSTART;VALUE=DATE:20251105
DTEND;VALUE=DATE:20251106
CREATED:20250929T070649Z
LAST-MODIFIED:20250930T081200Z
URL;VALUE=URI:https://teamup.com/ksxpexhgsexbwxyedb/events/1960626830
END:VEVENT
BEGIN:VEVENT
UID:TU1960627153
DTSTAMP:20260421T092749Z
SUMMARY:Hochseilgarten Mkid (Gruppe 2)
X-MICROSOFT-CDO-ALLDAYEVENT:TRUE
CATEGORIES:Schulöffentliche Termine > Klasse 5-10
CLASS:PUBLIC
TRANSP:OPAQUE
SEQUENCE:0
DTSTART;VALUE=DATE:20251113
DTEND;VALUE=DATE:20251114
CREATED:20250929T070749Z
URL;VALUE=URI:https://teamup.com/ksxpexhgsexbwxyedb/events/1960627153
END:VEVENT
BEGIN:VEVENT
UID:TU1960627298
DTSTAMP:20260421T092749Z
SUMMARY:Medienpädagogik Kl. 5b
X-MICROSOFT-CDO-ALLDAYEVENT:TRUE
CATEGORIES:Schulöffentliche Termine > Klasse 5-10
CLASS:PUBLIC
TRANSP:OPAQUE
SEQUENCE:0
DTSTART;VALUE=DATE:20260115
DTEND;VALUE=DATE:20260116
CREATED:20250929T070821Z
URL;VALUE=URI:https://teamup.com/ksxpexhgsexbwxyedb/events/1960627298
END:VEVENT
BEGIN:VEVENT
UID:TU1960627401
DTSTAMP:20260421T092749Z
SUMMARY:Medienpädagogik Kl. 5a
X-MICROSOFT-CDO-ALLDAYEVENT:TRUE
CATEGORIES:Schulöffentliche Termine > Klasse 5-10
CLASS:PUBLIC
TRANSP:OPAQUE
SEQUENCE:0
DTSTART;VALUE=DATE:20260116
DTEND;VALUE=DATE:20260117
CREATED:20250929T070841Z
URL;VALUE=URI:https://teamup.com/ksxpexhgsexbwxyedb/events/1960627401
END:VEVENT
BEGIN:VEVENT
UID:TU1960627535
DTSTAMP:20260421T092749Z
SUMMARY:Medienpädagogik Kl. 5c
X-MICROSOFT-CDO-ALLDAYEVENT:TRUE
CATEGORIES:Schulöffentliche Termine > Klasse 5-10
CLASS:PUBLIC
TRANSP:OPAQUE
SEQUENCE:0
DTSTART;VALUE=DATE:20260305
DTEND;VALUE=DATE:20260306
CREATED:20250929T070911Z
URL;VALUE=URI:https://teamup.com/ksxpexhgsexbwxyedb/events/1960627535
END:VEVENT
BEGIN:VEVENT
UID:TU1960627593
DTSTAMP:20260421T092749Z
SUMMARY:Medienpädagogik Kl. 5d
X-MICROSOFT-CDO-ALLDAYEVENT:TRUE
CATEGORIES:Schulöffentliche Termine > Klasse 5-10
CLASS:PUBLIC
TRANSP:OPAQUE
SEQUENCE:0
DTSTART;VALUE=DATE:20260306
DTEND;VALUE=DATE:20260307
CREATED:20250929T070924Z
URL;VALUE=URI:https://teamup.com/ksxpexhgsexbwxyedb/events/1960627593
END:VEVENT
BEGIN:VEVENT
UID:TU1960629302
DTSTAMP:20260421T092749Z
SUMMARY:Mathe ohne Grenzen: 1./2. Stunde Kl. 5/6 und 9/10
CATEGORIES:Schulöffentliche Termine > Klasse 5-10
CLASS:PUBLIC
TRANSP:OPAQUE
SEQUENCE:0
DTSTART;TZID=Europe/Berlin:20260305T074500
DTEND;TZID=Europe/Berlin:20260305T093000
CREATED:20250929T071123Z
URL;VALUE=URI:https://teamup.com/ksxpexhgsexbwxyedb/events/1960629302
END:VEVENT
BEGIN:VEVENT
UID:TU1960629872
DTSTAMP:20260421T092749Z
SUMMARY:Känguru der Mathematik: 3./4 . Stunde alle Klassen
X-MICROSOFT-CDO-ALLDAYEVENT:TRUE
CATEGORIES:Schulöffentliche Termine > Klasse 5-10
CLASS:PUBLIC
TRANSP:OPAQUE
SEQUENCE:0
DTSTART;VALUE=DATE:20260319
DTEND;VALUE=DATE:20260320
CREATED:20250929T071237Z
LAST-MODIFIED:20250929T104942Z
URL;VALUE=URI:https://teamup.com/ksxpexhgsexbwxyedb/events/1960629872
END:VEVENT
BEGIN:VEVENT
UID:TU1960636561
DTSTAMP:20260421T092749Z
SUMMARY:Klasse 7c: Medienprävention durch Polizei (1.-3. Stunde)
CATEGORIES:Schulöffentliche Termine > Klasse 5-10
CLASS:PUBLIC
TRANSP:OPAQUE
SEQUENCE:0
DTSTART;TZID=Europe/Berlin:20251022T074500
DTEND;TZID=Europe/Berlin:20251022T103000
CREATED:20250929T072632Z
LAST-MODIFIED:20251009T080613Z
URL;VALUE=URI:https://teamup.com/ksxpexhgsexbwxyedb/events/1960636561
END:VEVENT
BEGIN:VEVENT
UID:TU1961354907
DTSTAMP:20260421T092749Z
SUMMARY:Klasse 9 Ital. und NWT - Mädchen: Besuch der Basler 8 (3./4. Stund
 e)
X-MICROSOFT-CDO-ALLDAYEVENT:TRUE
CATEGORIES:Schulöffentliche Termine > Klasse 5-10
CLASS:PUBLIC
TRANSP:OPAQUE
SEQUENCE:0
DTSTART;VALUE=DATE:20251023
DTEND;VALUE=DATE:20251024
CREATED:20250930T051304Z
LAST-MODIFIED:20250930T051455Z
URL;VALUE=URI:https://teamup.com/ksxpexhgsexbwxyedb/events/1961354907
END:VEVENT
BEGIN:VEVENT
UID:TU1961552223
DTSTAMP:20260421T092749Z
SUMMARY:Klasse 9abcd: Wettbewerb "Jugend debattiert" (5./6. St.)
X-MICROSOFT-CDO-ALLDAYEVENT:TRUE
CATEGORIES:Schulöffentliche Termine > Klasse 5-10
CLASS:PUBLIC
TRANSP:OPAQUE
SEQUENCE:0
DTSTART;VALUE=DATE:20260120
DTEND;VALUE=DATE:20260121
CREATED:20250930T113640Z
LAST-MODIFIED:20250930T113753Z
URL;VALUE=URI:https://teamup.com/ksxpexhgsexbwxyedb/events/1961552223
END:VEVENT
BEGIN:VEVENT
UID:TU1962332388
DTSTAMP:20260421T092749Z
SUMMARY:Klasse 7: Exkursionen der zweiten Fremdsprachen (ab 3. St.)
CATEGORIES:Schulöffentliche Termine > Klasse 5-10
CLASS:PUBLIC
TRANSP:OPAQUE
SEQUENCE:0
DTSTART;TZID=Europe/Berlin:20251118T093000
DTEND;TZID=Europe/Berlin:20251118T150000
CREATED:20251001T120335Z
URL;VALUE=URI:https://teamup.com/ksxpexhgsexbwxyedb/events/1962332388
END:VEVENT
BEGIN:VEVENT
UID:TU1971193810
DTSTAMP:20260421T092749Z
SUMMARY:Italienisch Profilklasse 8 Fahrt zum Lago Maggiore
X-MICROSOFT-CDO-ALLDAYEVENT:TRUE
CATEGORIES:Schulöffentliche Termine > Klasse 5-10
CLASS:PUBLIC
TRANSP:OPAQUE
SEQUENCE:0
DTSTART;VALUE=DATE:20260611
DTEND;VALUE=DATE:20260613
CREATED:20251015T160441Z
LAST-MODIFIED:20251015T160454Z
URL;VALUE=URI:https://teamup.com/ksxpexhgsexbwxyedb/events/1971193810
END:VEVENT
BEGIN:VEVENT
UID:TU1985362341
DTSTAMP:20260421T092749Z
SUMMARY:SIA-Kurs der K1: Prüfungen
X-MICROSOFT-CDO-ALLDAYEVENT:TRUE
CATEGORIES:Schulöffentliche Termine > Klasse 5-10
CLASS:PUBLIC
TRANSP:OPAQUE
SEQUENCE:0
DTSTART;VALUE=DATE:20260708
DTEND;VALUE=DATE:20260709
CREATED:20251107T080819Z
URL;VALUE=URI:https://teamup.com/ksxpexhgsexbwxyedb/events/1985362341
END:VEVENT
BEGIN:VEVENT
UID:TU1988928077
DTSTAMP:20260421T092749Z
SUMMARY:8a Besuch aus Audincourt
X-MICROSOFT-CDO-ALLDAYEVENT:TRUE
CATEGORIES:Schulöffentliche Termine > Klasse 5-10
CLASS:PUBLIC
TRANSP:OPAQUE
SEQUENCE:0
DTSTART;VALUE=DATE:20260521
DTEND;VALUE=DATE:20260522
CREATED:20251113T122810Z
URL;VALUE=URI:https://teamup.com/ksxpexhgsexbwxyedb/events/1988928077
END:VEVENT
BEGIN:VEVENT
UID:TU1988928249
DTSTAMP:20260421T092749Z
SUMMARY:8a: Besuch in Audincourt
X-MICROSOFT-CDO-ALLDAYEVENT:TRUE
CATEGORIES:Schulöffentliche Termine > Klasse 5-10
CLASS:PUBLIC
TRANSP:OPAQUE
SEQUENCE:0
DTSTART;VALUE=DATE:20260623
DTEND;VALUE=DATE:20260624
CREATED:20251113T122839Z
URL;VALUE=URI:https://teamup.com/ksxpexhgsexbwxyedb/events/1988928249
END:VEVENT
BEGIN:VEVENT
UID:TU2008510382
DTSTAMP:20260421T092749Z
SUMMARY:Mkid Exkursion (mit einzelnen Schüler:innen der 6a und 7a)
X-MICROSOFT-CDO-ALLDAYEVENT:TRUE
CATEGORIES:Schulöffentliche Termine > Klasse 5-10
CLASS:PUBLIC
TRANSP:OPAQUE
SEQUENCE:0
DTSTART;VALUE=DATE:20260224
DTEND;VALUE=DATE:20260225
CREATED:20251216T132317Z
URL;VALUE=URI:https://teamup.com/ksxpexhgsexbwxyedb/events/2008510382
END:VEVENT
BEGIN:VEVENT
UID:TU2020933592
DTSTAMP:20260421T092749Z
SUMMARY:7c: Medienprävention (1.-3. St.)
CATEGORIES:Schulöffentliche Termine > Klasse 5-10
CLASS:PUBLIC
TRANSP:OPAQUE
SEQUENCE:0
DTSTART;TZID=Europe/Berlin:20260302T074500
DTEND;TZID=Europe/Berlin:20260302T103000
CREATED:20260109T072954Z
URL;VALUE=URI:https://teamup.com/ksxpexhgsexbwxyedb/events/2020933592
END:VEVENT
BEGIN:VEVENT
UID:TU2020934031
DTSTAMP:20260421T092749Z
SUMMARY:7d: Medienprävention (4.-6. St.)
CATEGORIES:Schulöffentliche Termine > Klasse 5-10
CLASS:PUBLIC
TRANSP:OPAQUE
SEQUENCE:0
DTSTART;TZID=Europe/Berlin:20260302T103000
DTEND;TZID=Europe/Berlin:20260302T130000
CREATED:20260109T073041Z
LAST-MODIFIED:20260109T073104Z
URL;VALUE=URI:https://teamup.com/ksxpexhgsexbwxyedb/events/2020934031
END:VEVENT
BEGIN:VEVENT
UID:TU2033982027
DTSTAMP:20260421T092749Z
SUMMARY:Abgabe Wahl zweiter Fremdsprache Klasse 5
X-MICROSOFT-CDO-ALLDAYEVENT:TRUE
CATEGORIES:Schulöffentliche Termine > Klasse 5-10
CLASS:PUBLIC
TRANSP:OPAQUE
SEQUENCE:0
DTSTART;VALUE=DATE:20260323
DTEND;VALUE=DATE:20260324
CREATED:20260130T080526Z
URL;VALUE=URI:https://teamup.com/ksxpexhgsexbwxyedb/events/2033982027
END:VEVENT
BEGIN:VEVENT
UID:TU2048000131
DTSTAMP:20260421T092749Z
SUMMARY:Italienisch Klasse 9: Austausch und Besuch in Turin
X-MICROSOFT-CDO-ALLDAYEVENT:TRUE
CATEGORIES:Schulöffentliche Termine > Klasse 5-10
CLASS:PUBLIC
TRANSP:OPAQUE
SEQUENCE:0
DTSTART;VALUE=DATE:20260418
DTEND;VALUE=DATE:20260425
CREATED:20260223T090055Z
LAST-MODIFIED:20260315T194508Z
URL;VALUE=URI:https://teamup.com/ksxpexhgsexbwxyedb/events/2048000131
END:VEVENT
BEGIN:VEVENT
UID:TU2048000902
DTSTAMP:20260421T092749Z
SUMMARY:Italienisch Klasse 9: Austausch und Besuch der Turiner Partnerschul
 e in Freiburg
X-MICROSOFT-CDO-ALLDAYEVENT:TRUE
CATEGORIES:Schulöffentliche Termine > Klasse 5-10
CLASS:PUBLIC
TRANSP:OPAQUE
SEQUENCE:0
DTSTART;VALUE=DATE:20260321
DTEND;VALUE=DATE:20260328
CREATED:20260223T090240Z
URL;VALUE=URI:https://teamup.com/ksxpexhgsexbwxyedb/events/2048000902
END:VEVENT
BEGIN:VEVENT
UID:TU2081805413
DTSTAMP:20260421T092749Z
SUMMARY:Klasse 9: Struthof-Exkursion
X-MICROSOFT-CDO-ALLDAYEVENT:TRUE
CATEGORIES:Schulöffentliche Termine > Klasse 5-10
CLASS:PUBLIC
TRANSP:OPAQUE
SEQUENCE:0
DTSTART;VALUE=DATE:20260702
DTEND;VALUE=DATE:20260703
CREATED:20260420T073754Z
LAST-MODIFIED:20260420T074203Z
URL;VALUE=URI:https://teamup.com/ksxpexhgsexbwxyedb/events/2081805413
END:VEVENT
END:VCALENDAR
