BEGIN:VCALENDAR
VERSION:2.0
PRODID:-//Teamup Solutions AG//Teamup Calendar//EN
CALSCALE:GREGORIAN
METHOD:PUBLISH
DESCRIPTION:Schulöffentlicher Terminkalender-6199722
X-WR-CALDESC:Schulöffentlicher Terminkalender-6199722
X-WR-CALNAME:Terminkalender des Rotteck-Gymnasiums | Schulöffentliche Term
 ine > Kursstufentermine
X-PUBLISHED-TTL:PT15M
SUMMARY:Terminkalender des Rotteck-Gymnasiums | Schulöffentliche Termine >
  Kursstufentermine
BEGIN:VTIMEZONE
TZID:Europe/Berlin
LAST-MODIFIED:20251211T094730Z
TZURL:https://www.tzurl.org/zoneinfo-outlook/Europe/Berlin
X-LIC-LOCATION:Europe/Berlin
BEGIN:DAYLIGHT
TZNAME:CEST
TZOFFSETFROM:+0100
TZOFFSETTO:+0200
DTSTART:19700329T020000
RRULE:FREQ=YEARLY;BYMONTH=3;BYDAY=-1SU
END:DAYLIGHT
BEGIN:STANDARD
TZNAME:CET
TZOFFSETFROM:+0200
TZOFFSETTO:+0100
DTSTART:19701025T030000
RRULE:FREQ=YEARLY;BYMONTH=10;BYDAY=-1SU
END:STANDARD
END:VTIMEZONE
BEGIN:VEVENT
UID:TU1814597631
DTSTAMP:20260413T080909Z
SUMMARY:Abitur 2026 - Mündliche Prüfung
X-MICROSOFT-CDO-ALLDAYEVENT:TRUE
CATEGORIES:Schulöffentliche Termine > Kursstufentermine
CLASS:PUBLIC
TRANSP:OPAQUE
SEQUENCE:0
DTSTART;VALUE=DATE:20260629
DTEND;VALUE=DATE:20260702
CREATED:20250124T073618Z
LAST-MODIFIED:20250124T073649Z
URL;VALUE=URI:https://teamup.com/ksxpexhgsexbwxyedb/events/1814597631
END:VEVENT
BEGIN:VEVENT
UID:TU1860918445
DTSTAMP:20260413T080909Z
SUMMARY:Kommunikationsprüfung K2
X-MICROSOFT-CDO-ALLDAYEVENT:TRUE
CATEGORIES:Schulöffentliche Termine > Kursstufentermine
CLASS:PUBLIC
TRANSP:OPAQUE
SEQUENCE:0
DTSTART;VALUE=DATE:20260325
DTEND;VALUE=DATE:20260327
CREATED:20250411T100120Z
LAST-MODIFIED:20250702T153750Z
URL;VALUE=URI:https://teamup.com/ksxpexhgsexbwxyedb/events/1860918445
END:VEVENT
BEGIN:VEVENT
UID:TU1876282628
DTSTAMP:20260413T080909Z
SUMMARY:Abitur Geo\, GK\, NwT\, Wi
CATEGORIES:Schulöffentliche Termine > Kursstufentermine
CLASS:PUBLIC
TRANSP:OPAQUE
SEQUENCE:0
DTSTART;TZID=Europe/Berlin:20260421T090000
DTEND;TZID=Europe/Berlin:20260421T133000
CREATED:20250508T110023Z
URL;VALUE=URI:https://teamup.com/ksxpexhgsexbwxyedb/events/1876282628
END:VEVENT
BEGIN:VEVENT
UID:TU1876283523
DTSTAMP:20260413T080909Z
SUMMARY:Abitur Sport
CATEGORIES:Schulöffentliche Termine > Kursstufentermine
CLASS:PUBLIC
TRANSP:OPAQUE
SEQUENCE:0
DTSTART;TZID=Europe/Berlin:20260421T090000
DTEND;TZID=Europe/Berlin:20260421T130000
CREATED:20250508T110231Z
URL;VALUE=URI:https://teamup.com/ksxpexhgsexbwxyedb/events/1876283523
END:VEVENT
BEGIN:VEVENT
UID:TU1876284137
DTSTAMP:20260413T080909Z
SUMMARY:Abitur Bio
CATEGORIES:Schulöffentliche Termine > Kursstufentermine
CLASS:PUBLIC
TRANSP:OPAQUE
SEQUENCE:0
DTSTART;TZID=Europe/Berlin:20260422T090000
DTEND;TZID=Europe/Berlin:20260422T140000
CREATED:20250508T110334Z
URL;VALUE=URI:https://teamup.com/ksxpexhgsexbwxyedb/events/1876284137
END:VEVENT
BEGIN:VEVENT
UID:TU1876284564
DTSTAMP:20260413T080909Z
SUMMARY:Abitur Physik
CATEGORIES:Schulöffentliche Termine > Kursstufentermine
CLASS:PUBLIC
TRANSP:OPAQUE
SEQUENCE:0
DTSTART;TZID=Europe/Berlin:20260423T090000
DTEND;TZID=Europe/Berlin:20260423T140000
CREATED:20250508T110506Z
URL;VALUE=URI:https://teamup.com/ksxpexhgsexbwxyedb/events/1876284564
END:VEVENT
BEGIN:VEVENT
UID:TU1876285234
DTSTAMP:20260413T080909Z
SUMMARY:Abitur Deutsch
CATEGORIES:Schulöffentliche Termine > Kursstufentermine
CLASS:PUBLIC
TRANSP:OPAQUE
SEQUENCE:0
DTSTART;TZID=Europe/Berlin:20260428T090000
DTEND;TZID=Europe/Berlin:20260428T141500
CREATED:20250508T110704Z
URL;VALUE=URI:https://teamup.com/ksxpexhgsexbwxyedb/events/1876285234
END:VEVENT
BEGIN:VEVENT
UID:TU1876285817
DTSTAMP:20260413T080909Z
SUMMARY:Abitur Englisch
CATEGORIES:Schulöffentliche Termine > Kursstufentermine
CLASS:PUBLIC
TRANSP:OPAQUE
SEQUENCE:0
DTSTART;TZID=Europe/Berlin:20260430T090000
DTEND;TZID=Europe/Berlin:20260430T140000
CREATED:20250508T110756Z
URL;VALUE=URI:https://teamup.com/ksxpexhgsexbwxyedb/events/1876285817
END:VEVENT
BEGIN:VEVENT
UID:TU1876286293
DTSTAMP:20260413T080909Z
SUMMARY:Abitur Mathematik
CATEGORIES:Schulöffentliche Termine > Kursstufentermine
CLASS:PUBLIC
TRANSP:OPAQUE
SEQUENCE:0
DTSTART;TZID=Europe/Berlin:20260506T090000
DTEND;TZID=Europe/Berlin:20260506T140000
CREATED:20250508T110903Z
URL;VALUE=URI:https://teamup.com/ksxpexhgsexbwxyedb/events/1876286293
END:VEVENT
BEGIN:VEVENT
UID:TU1876287063
DTSTAMP:20260413T080909Z
SUMMARY:Abitur Französisch
CATEGORIES:Schulöffentliche Termine > Kursstufentermine
CLASS:PUBLIC
TRANSP:OPAQUE
SEQUENCE:0
DTSTART;TZID=Europe/Berlin:20260508T090000
DTEND;TZID=Europe/Berlin:20260508T133000
CREATED:20250508T111006Z
URL;VALUE=URI:https://teamup.com/ksxpexhgsexbwxyedb/events/1876287063
END:VEVENT
BEGIN:VEVENT
UID:TU1883464564
DTSTAMP:20260413T080909Z
SUMMARY:Dualer Hochschultag
CATEGORIES:Schulöffentliche Termine > Kursstufentermine
CLASS:PUBLIC
TRANSP:OPAQUE
SEQUENCE:0
DTSTART;TZID=Europe/Berlin:20260512T080000
DTEND;TZID=Europe/Berlin:20260512T130000
CREATED:20250520T113421Z
LAST-MODIFIED:20260413T035153Z
URL;VALUE=URI:https://teamup.com/ksxpexhgsexbwxyedb/events/1883464564
END:VEVENT
BEGIN:VEVENT
UID:TU1885427376
DTSTAMP:20260413T080909Z
SUMMARY:Zeugnisausgabe K1 + K2
DESCRIPTION:K2: Späteste Ausgabe der Zeugnisse für das  \n3\\. Schulhalbj
 ahr\n\n
X-MICROSOFT-CDO-ALLDAYEVENT:TRUE
CATEGORIES:Schulöffentliche Termine > Kursstufentermine
CLASS:PUBLIC
TRANSP:OPAQUE
SEQUENCE:0
DTSTART;VALUE=DATE:20260130
DTEND;VALUE=DATE:20260131
CREATED:20250523T094846Z
LAST-MODIFIED:20250702T152742Z
URL;VALUE=URI:https://teamup.com/ksxpexhgsexbwxyedb/events/1885427376
END:VEVENT
BEGIN:VEVENT
UID:TU1885428310
DTSTAMP:20260413T080909Z
SUMMARY:K2: Festlegung mündliche Prüfungsfächer
X-MICROSOFT-CDO-ALLDAYEVENT:TRUE
CATEGORIES:Schulöffentliche Termine > Kursstufentermine
CLASS:PUBLIC
TRANSP:OPAQUE
SEQUENCE:0
DTSTART;VALUE=DATE:20260202
DTEND;VALUE=DATE:20260203
CREATED:20250523T095201Z
LAST-MODIFIED:20250702T152815Z
URL;VALUE=URI:https://teamup.com/ksxpexhgsexbwxyedb/events/1885428310
END:VEVENT
BEGIN:VEVENT
UID:TU1885431507
DTSTAMP:20260413T080909Z
SUMMARY:K2: Wiederbeginn Unterricht
X-MICROSOFT-CDO-ALLDAYEVENT:TRUE
CATEGORIES:Schulöffentliche Termine > Kursstufentermine
CLASS:PUBLIC
TRANSP:OPAQUE
SEQUENCE:0
DTSTART;VALUE=DATE:20260511
DTEND;VALUE=DATE:20260512
CREATED:20250523T100211Z
LAST-MODIFIED:20250702T154429Z
URL;VALUE=URI:https://teamup.com/ksxpexhgsexbwxyedb/events/1885431507
END:VEVENT
BEGIN:VEVENT
UID:TU1885431797
DTSTAMP:20260413T080909Z
SUMMARY:Studienfahrten K1
DESCRIPTION:Der endgültige Termin wird noch mit Beteiligten abgesprochen.
  \n\n
X-MICROSOFT-CDO-ALLDAYEVENT:TRUE
CATEGORIES:Schulöffentliche Termine > Kursstufentermine
CLASS:PUBLIC
TRANSP:OPAQUE
SEQUENCE:0
DTSTART;VALUE=DATE:20260608
DTEND;VALUE=DATE:20260613
CREATED:20250523T100313Z
LAST-MODIFIED:20251107T085709Z
URL;VALUE=URI:https://teamup.com/ksxpexhgsexbwxyedb/events/1885431797
END:VEVENT
BEGIN:VEVENT
UID:TU1885431943
DTSTAMP:20260413T080909Z
SUMMARY:K2: Bekanntgabe der Ergebnisse der schriftlichen Abiturprüfung
X-MICROSOFT-CDO-ALLDAYEVENT:TRUE
CATEGORIES:Schulöffentliche Termine > Kursstufentermine
CLASS:PUBLIC
TRANSP:OPAQUE
SEQUENCE:0
DTSTART;VALUE=DATE:20260624
DTEND;VALUE=DATE:20260625
CREATED:20250523T100342Z
LAST-MODIFIED:20250702T154106Z
URL;VALUE=URI:https://teamup.com/ksxpexhgsexbwxyedb/events/1885431943
END:VEVENT
BEGIN:VEVENT
UID:TU1885432419
DTSTAMP:20260413T080909Z
SUMMARY:Notenende K2
X-MICROSOFT-CDO-ALLDAYEVENT:TRUE
CATEGORIES:Schulöffentliche Termine > Kursstufentermine
CLASS:PUBLIC
TRANSP:OPAQUE
SEQUENCE:0
DTSTART;VALUE=DATE:20260616
DTEND;VALUE=DATE:20260617
CREATED:20250523T100515Z
LAST-MODIFIED:20250731T112519Z
URL;VALUE=URI:https://teamup.com/ksxpexhgsexbwxyedb/events/1885432419
END:VEVENT
BEGIN:VEVENT
UID:TU1885433048
DTSTAMP:20260413T080909Z
SUMMARY:Nachschreibtermin K2
CATEGORIES:Schulöffentliche Termine > Kursstufentermine
CLASS:PUBLIC
TRANSP:OPAQUE
SEQUENCE:0
DTSTART;TZID=Europe/Berlin:20260610T160000
DTEND;TZID=Europe/Berlin:20260610T173000
CREATED:20250523T100649Z
LAST-MODIFIED:20250702T153927Z
URL;VALUE=URI:https://teamup.com/ksxpexhgsexbwxyedb/events/1885433048
END:VEVENT
BEGIN:VEVENT
UID:TU1889342114
DTSTAMP:20260413T080909Z
SUMMARY:BK-Kurs K1 in Bad Rotenfels
X-MICROSOFT-CDO-ALLDAYEVENT:TRUE
CATEGORIES:Schulöffentliche Termine > Kursstufentermine
CLASS:PUBLIC
TRANSP:OPAQUE
SEQUENCE:0
DTSTART;VALUE=DATE:20260318
DTEND;VALUE=DATE:20260321
CREATED:20250530T084325Z
LAST-MODIFIED:20250530T084444Z
URL;VALUE=URI:https://teamup.com/ksxpexhgsexbwxyedb/events/1889342114
END:VEVENT
BEGIN:VEVENT
UID:TU1891049686
DTSTAMP:20260413T080909Z
SUMMARY:BOGY-Woche K1
X-MICROSOFT-CDO-ALLDAYEVENT:TRUE
CATEGORIES:Schulöffentliche Termine > Kursstufentermine
CLASS:PUBLIC
TRANSP:OPAQUE
SEQUENCE:0
DTSTART;VALUE=DATE:20260323
DTEND;VALUE=DATE:20260328
CREATED:20250602T171326Z
URL;VALUE=URI:https://teamup.com/ksxpexhgsexbwxyedb/events/1891049686
END:VEVENT
BEGIN:VEVENT
UID:TU1891053901
DTSTAMP:20260413T080909Z
SUMMARY:Studieninfotag K1 (ganztägig)
X-MICROSOFT-CDO-ALLDAYEVENT:TRUE
CATEGORIES:Schulöffentliche Termine > Kursstufentermine
CLASS:PUBLIC
TRANSP:OPAQUE
SEQUENCE:0
DTSTART;VALUE=DATE:20251119
DTEND;VALUE=DATE:20251120
CREATED:20250602T171942Z
URL;VALUE=URI:https://teamup.com/ksxpexhgsexbwxyedb/events/1891053901
END:VEVENT
BEGIN:VEVENT
UID:TU1891054645
DTSTAMP:20260413T080909Z
SUMMARY:Perspektivtag 1 (1.-6.Std.) K1
CATEGORIES:Schulöffentliche Termine > Kursstufentermine
CLASS:PUBLIC
TRANSP:OPAQUE
SEQUENCE:0
DTSTART;TZID=Europe/Berlin:20251117T075000
DTEND;TZID=Europe/Berlin:20251117T130000
CREATED:20250602T172117Z
URL;VALUE=URI:https://teamup.com/ksxpexhgsexbwxyedb/events/1891054645
END:VEVENT
BEGIN:VEVENT
UID:TU1891057988
DTSTAMP:20260413T080909Z
SUMMARY:Vocatium K1 (freiwillig- nur SuS mit Termin) - Unterricht findet st
 att
CATEGORIES:Schulöffentliche Termine > Kursstufentermine
CLASS:PUBLIC
TRANSP:OPAQUE
SEQUENCE:0
DTSTART;TZID=Europe/Berlin:20260519T130000
DTEND;TZID=Europe/Berlin:20260520T140000
CREATED:20250602T172852Z
URL;VALUE=URI:https://teamup.com/ksxpexhgsexbwxyedb/events/1891057988
END:VEVENT
BEGIN:VEVENT
UID:TU1891656976
DTSTAMP:20260413T080909Z
SUMMARY:K1: Studien- und Berufsorientierung: BEST-Seminar (freiwillig)
DESCRIPTION:K1: Studien- und Berufsorientierung: BEST-Seminar (2-tägiges S
 eminar\; Agentur für Arbeit)\,\n\n1\\. Tag\n\nTeilnahme freiwillig\, begr
 enzte Teilnehmerzahl\n\n
X-MICROSOFT-CDO-ALLDAYEVENT:TRUE
CATEGORIES:Schulöffentliche Termine > Kursstufentermine
CLASS:PUBLIC
TRANSP:OPAQUE
SEQUENCE:0
DTSTART;VALUE=DATE:20260126
DTEND;VALUE=DATE:20260127
CREATED:20250603T144349Z
URL;VALUE=URI:https://teamup.com/ksxpexhgsexbwxyedb/events/1891656976
END:VEVENT
BEGIN:VEVENT
UID:TU1891657448
DTSTAMP:20260413T080909Z
SUMMARY:K1: Studien- und Berufsorientierung: BEST-Seminar (freiwillig)
DESCRIPTION:K1: Studien- und Berufsorientierung: BEST-Seminar (2-tägiges S
 eminar\; Agentur für Arbeit)\,\n\n2\\. Tag\n\nTeilnahme freiwillig\, begr
 enzte Teilnehmerzahl\n\n
X-MICROSOFT-CDO-ALLDAYEVENT:TRUE
CATEGORIES:Schulöffentliche Termine > Kursstufentermine
CLASS:PUBLIC
TRANSP:OPAQUE
SEQUENCE:0
DTSTART;VALUE=DATE:20260203
DTEND;VALUE=DATE:20260204
CREATED:20250603T144447Z
URL;VALUE=URI:https://teamup.com/ksxpexhgsexbwxyedb/events/1891657448
END:VEVENT
BEGIN:VEVENT
UID:TU1901046583
DTSTAMP:20260413T080909Z
SUMMARY:K2: Letzter Unterrichtstag
X-MICROSOFT-CDO-ALLDAYEVENT:TRUE
CATEGORIES:Schulöffentliche Termine > Kursstufentermine
CLASS:PUBLIC
TRANSP:OPAQUE
SEQUENCE:0
DTSTART;VALUE=DATE:20260623
DTEND;VALUE=DATE:20260624
CREATED:20250619T101239Z
LAST-MODIFIED:20250702T154100Z
URL;VALUE=URI:https://teamup.com/ksxpexhgsexbwxyedb/events/1901046583
END:VEVENT
BEGIN:VEVENT
UID:TU1909787651
DTSTAMP:20260413T080909Z
SUMMARY:K2: Bücherabgabe in der Lehrmittelsammlung
X-MICROSOFT-CDO-ALLDAYEVENT:TRUE
CATEGORIES:Schulöffentliche Termine > Kursstufentermine
CLASS:PUBLIC
TRANSP:OPAQUE
SEQUENCE:0
DTSTART;VALUE=DATE:20260624
DTEND;VALUE=DATE:20260625
CREATED:20250704T054537Z
LAST-MODIFIED:20250704T055811Z
URL;VALUE=URI:https://teamup.com/ksxpexhgsexbwxyedb/events/1909787651
END:VEVENT
BEGIN:VEVENT
UID:TU1909787931
DTSTAMP:20260413T080909Z
SUMMARY:K2: Abgabe jeglicher Lehrmittel in der Lehrmittelsammlung (inkl. I-
 Pads)
X-MICROSOFT-CDO-ALLDAYEVENT:TRUE
CATEGORIES:Schulöffentliche Termine > Kursstufentermine
CLASS:PUBLIC
TRANSP:OPAQUE
SEQUENCE:0
DTSTART;VALUE=DATE:20260701
DTEND;VALUE=DATE:20260702
CREATED:20250704T054656Z
LAST-MODIFIED:20250704T055837Z
URL;VALUE=URI:https://teamup.com/ksxpexhgsexbwxyedb/events/1909787931
END:VEVENT
BEGIN:VEVENT
UID:TU1923597824
DTSTAMP:20260413T080909Z
SUMMARY:BF Italienisch/Latein K2: Fahrt nach Mailand
X-MICROSOFT-CDO-ALLDAYEVENT:TRUE
CATEGORIES:Schulöffentliche Termine > Kursstufentermine
CLASS:PUBLIC
TRANSP:OPAQUE
SEQUENCE:0
DTSTART;VALUE=DATE:20260129
DTEND;VALUE=DATE:20260202
CREATED:20250729T072402Z
URL;VALUE=URI:https://teamup.com/ksxpexhgsexbwxyedb/events/1923597824
END:VEVENT
BEGIN:VEVENT
UID:TU1925017591
DTSTAMP:20260413T080909Z
SUMMARY:Abiturfeier mit Zeugnisübergabe
X-MICROSOFT-CDO-ALLDAYEVENT:TRUE
CATEGORIES:Schulöffentliche Termine > Kursstufentermine
CLASS:PUBLIC
TRANSP:OPAQUE
SEQUENCE:0
DTSTART;VALUE=DATE:20260704
DTEND;VALUE=DATE:20260705
CREATED:20250731T093403Z
LAST-MODIFIED:20251127T073902Z
URL;VALUE=URI:https://teamup.com/ksxpexhgsexbwxyedb/events/1925017591
END:VEVENT
BEGIN:VEVENT
UID:TU1952322867
DTSTAMP:20260413T080909Z
SUMMARY:Perspektivtag 2 (gesamte K1)
CATEGORIES:Schulöffentliche Termine > Kursstufentermine
CLASS:PUBLIC
TRANSP:OPAQUE
SEQUENCE:0
DTSTART;TZID=Europe/Berlin:20260121T080000
DTEND;TZID=Europe/Berlin:20260121T130000
CREATED:20250915T162214Z
URL;VALUE=URI:https://teamup.com/ksxpexhgsexbwxyedb/events/1952322867
END:VEVENT
BEGIN:VEVENT
UID:TU1973682105
DTSTAMP:20260413T080909Z
SUMMARY:Abitur 2026 - Fachpraktische Prüfung Sport
X-MICROSOFT-CDO-ALLDAYEVENT:TRUE
CATEGORIES:Schulöffentliche Termine > Kursstufentermine
CLASS:PUBLIC
TRANSP:OPAQUE
SEQUENCE:0
DTSTART;VALUE=DATE:20260609
DTEND;VALUE=DATE:20260612
CREATED:20251020T055726Z
URL;VALUE=URI:https://teamup.com/ksxpexhgsexbwxyedb/events/1973682105
END:VEVENT
BEGIN:VEVENT
UID:TU2020175708
DTSTAMP:20260413T080909Z
SUMMARY:K2 Zeitzeugengespräch mit Michel Moos
CATEGORIES:Schulöffentliche Termine > Kursstufentermine
CLASS:PUBLIC
TRANSP:OPAQUE
SEQUENCE:0
DTSTART;TZID=Europe/Berlin:20260122T094000
DTEND;TZID=Europe/Berlin:20260122T111000
CREATED:20260108T075655Z
LAST-MODIFIED:20260109T062936Z
URL;VALUE=URI:https://teamup.com/ksxpexhgsexbwxyedb/events/2020175708
END:VEVENT
BEGIN:VEVENT
UID:TU2067391212
DTSTAMP:20260413T080909Z
SUMMARY:Kommunikationsprüfung K2
X-MICROSOFT-CDO-ALLDAYEVENT:TRUE
CATEGORIES:Schulöffentliche Termine > Kursstufentermine
CLASS:PUBLIC
TRANSP:OPAQUE
SEQUENCE:0
DTSTART;VALUE=DATE:20270323
DTEND;VALUE=DATE:20270325
CREATED:20260325T204206Z
URL;VALUE=URI:https://teamup.com/ksxpexhgsexbwxyedb/events/2067391212
END:VEVENT
END:VCALENDAR
